BEGIN:VCALENDAR
X-LOTUS-CHARSET:UTF-8
VERSION:2.0
PRODID:ZMS-Berlin
METHOD:PUBLISH
BEGIN:VEVENT
UID:https://www.wfbb.de/ical/event?id=4013-4013
CLASS:PUBLIC
DTSTAMP:20260422T004025
DTSTART;TZID=Europe/Berlin:20251022T080000Z
DTEND;TZID=Europe/Berlin:20251022T090000Z
LOCATION:online |  MS Teams,
SUMMARY:Neue Märkte im Fokus | Tschechische Republik
DESCRIPTION:\n\nLink: https://teams.microsoft.com/l/meetup-join/19%3ameeting_NWQ2NGUyN2ItMjg3NS00MDg3LWFiZWQtZDdjN2RhOTYwODMz%40thread.v2/0?context=%7b%22Tid%22%3a%22edce049f-ebb1-4369-866f-f4cb7402bb8e%22%2c%22Oid%22%3a%22a902d628-0cdf-4804-8d4e-e617f98bb3bc%22%7d
END:VEVENT
END:VCALENDAR
