BEGIN:VCALENDAR
X-LOTUS-CHARSET:UTF-8
VERSION:2.0
PRODID:ZMS-Berlin
METHOD:PUBLISH
BEGIN:VEVENT
UID:https://www.wfbb.de/ical/event?id=3848-3848
CLASS:PUBLIC
DTSTAMP:20260425T123942
DTSTART;TZID=Europe/Berlin:20260518T070000Z
DTEND;TZID=Europe/Berlin:20260521T160000Z
LOCATION:Warschau,
SUMMARY:Unternehmensreise Breslau und 6. Wirtschaftsforum
DESCRIPTION:Gesundheitswirtschaft und die auf künstlicher Intelligenz basierende medizinische Diagnostik 
END:VEVENT
END:VCALENDAR
