BEGIN:VCALENDAR
X-LOTUS-CHARSET:UTF-8
VERSION:2.0
PRODID:ZMS-Berlin
METHOD:PUBLISH
BEGIN:VEVENT
UID:https://www.wfbb.de/ical/event?id=3683-3683
CLASS:PUBLIC
DTSTAMP:20260420T011310
DTSTART;TZID=Europe/Berlin:20250325T160000Z
DTEND;TZID=Europe/Berlin:20250326T140000Z
LOCATION:
SUMMARY:5. Brandenburgisch-Niederschlesisches Wirtschaftsforum "Anwendungsfälle der Künstlichen Intelligenz in KMU“
DESCRIPTION:Brandenburgisch-Niederschlesische Wirtschaftsforum 
"Anwendungsfälle der Künstlichen Intelligenz“
25.-26.03.2025
END:VEVENT
END:VCALENDAR
