BEGIN:VCALENDAR
X-LOTUS-CHARSET:UTF-8
VERSION:2.0
PRODID:ZMS-Berlin
METHOD:PUBLISH
BEGIN:VEVENT
UID:https://www.wfbb.de/ical/event?id=3249-3249
CLASS:PUBLIC
DTSTAMP:20260422T005509
DTSTART;TZID=Europe/Berlin:20241015T070000Z
DTEND;TZID=Europe/Berlin:20241019T210000Z
LOCATION:Friedrichshafen,
SUMMARY:FAKUMA 2024 | Messegemeinschaftsstand der Hauptstadtregion
DESCRIPTION:WFBB organisiert Messegemeinschaftsstand auf der FAKUMA 2024

Friedrichshafen, 15. - 19. Oktober 2024
END:VEVENT
END:VCALENDAR
