BEGIN:VCALENDAR
X-LOTUS-CHARSET:UTF-8
VERSION:2.0
PRODID:ZMS-Berlin
METHOD:PUBLISH
BEGIN:VEVENT
UID:https://www.wfbb.de/ical/event?id=3187-3187
CLASS:PUBLIC
DTSTAMP:20260421T101527
DTSTART;TZID=Europe/Berlin:20231114T083000Z
DTEND;TZID=Europe/Berlin:20231114T150000Z
LOCATION:Paulinenhof, Kuhlowitzer Dorfstraße 1, 14806 Bad Belzig OT Kuhlowitz,
SUMMARY:Arbeitgeber-Seminar: „Führungspotenzial entwickeln: Vom Mitarbeitenden zur inspirierenden Führungskraft“
DESCRIPTION:ARBEITSKRÄFTE Gewinnen. Sichern. Halten
END:VEVENT
END:VCALENDAR
